BEGIN:VCALENDAR
VERSION:2.0
PRODID:-//wp-events-plugin.com//7.2.3.1//EN
TZID:Europe/Berlin
X-WR-TIMEZONE:Europe/Berlin
BEGIN:VEVENT
UID:54@bogenpfade.de
DTSTART:20260424T180000Z
DTEND:20260426T130000Z
DTSTAMP:20251213T211019Z
URL:https://bogenpfade.de/events/beil-und-bogen-seminar/
SUMMARY:Beil und Bogen Seminar
DESCRIPTION:Wochenendseminar in der Zwickmühle (74626 Bretzfeld)\nPraxisei
 nheit „Beil“: Das Seminar führt verschiedene Systeme beil-ähnlicher 
 Werkzeuge zu einer aktuellen &amp\; effizienten Selbstverteidigung zusamme
 n. Dies beinhaltet Beil\, Tomahawk\, Franziska\, Kama &amp\; Sichel sowie 
 Schweizer Gertel &amp\; Hippe. Wertvolle Techniken des Escrima sowie Prinz
 ipien der Fechtkunst der deutschen Schule unter Liechtenauer (14 Jhdt.) er
 gänzen unser System perfekt.\n\nPraxiseinheit „Bogen“: Erlebe die Fas
 zination des traditionellen Bogenschießens – einer jahrhundertealten Pr
 axis\, die Kraft\, Konzentration und innere Ruhe miteinander verbindet.\nB
 eim traditionellen Bogenschießen geht es nicht nur darum\, ein Ziel zu tr
 effen. Es ist eine\nReise zurück zu den Wurzeln des intuitiven Schießens
  – ohne moderne Hilfsmittel\, rein aus\neigener Körperwahrnehmung\, Ate
 mführung und mentaler Klarheit.\n\nKurzinfos:\n\n 	9h Training\n 	Teilnah
 me ab 18 Jahren\n 	Max. 16 Teilnehmer\n 	Trainingsmaterialien werden geste
 llt. Gerne kann auch mit der eigenen Ausrüstung trainiert werden.\n 	Unte
 rbringung zu zweit im 2-Bettzimmer\n 	Das Seminar ist nur als Gesamtpacket
  buchbar.\n 	Kosten: 290 € pro Person: (inkl. 19 % MwSt.)\n\nhttp://www.
 kampfkunst-wimpfen.de/Termine-Specials\n\nAnmeldung per E-Mail:&nbsp\;kamp
 fkunst-wimpfen@t-online.de
ATTACH;FMTTYPE=image/jpeg:https://bogenpfade.de/wp-content/uploads/2025/12
 /Beil-und-Bogen.jpg
LOCATION:https://www.diezwickmuehle.de/
END:VEVENT
END:VCALENDAR