BEGIN:VCALENDAR
VERSION:2.0
PRODID:-//wp-events-plugin.com//7.2.3.1//EN
TZID:Europe/Berlin
X-WR-TIMEZONE:Europe/Berlin
BEGIN:VEVENT
UID:74@bogenpfade.de
DTSTART:20260808T140000Z
DTEND:20260905T150000Z
DTSTAMP:20260420T124456Z
URL:https://bogenpfade.de/events/bogenschiessen-lernen-2/
SUMMARY:Bogenschießen lernen
DESCRIPTION:Traditionelles Bogenschießen\nTauche ein in die faszinierende 
 Welt des Traditionellen Bogenschießens und erlerne Schritt für Schritt d
 ie Grundlagen.\nIn unserem Kurs führen wir dich behutsam und praxisnah an
  das Bogenschießen heran – ganz ohne Vorkenntnisse.\nDer Kurs umfasst 5
  Termine à jeweils 1 Stunde. In jeder Einheit stellen wir dir die komplet
 te Ausrüstung zur Verfügung\, sodass du dich voll und ganz auf das Lerne
 n und Erleben konzentrieren kannst.\nAuf Wunsch beraten wir dich auch gern
 e\, wenn du dir deine eigene Ausrüstung zusammen stellen möchtest.\nNebe
 n dem praktischen Schießen legen wir großen Wert auf ein solides Fundame
 nt: In jeder Stunde wird auch theoretisches Wissen vermittelt\, zum Beispi
 el zu Haltung\, Technik\, Materialkunde\, Sicherheit und der Philosophie d
 es Traditionellen Bogenschießens. Das Gelernte wird direkt in die Praxis 
 umgesetzt und gefestigt.\nDurch wiederholtes Üben wird die Muskelkoordina
 tion und die Feinmotorik gestärkt. Die Schüsse werden ruhiger und konsta
 nter.&nbsp\;\nOb zur Entspannung\, zur Schulung von Konzentration und Kör
 pergefühl oder einfach aus Freude am Bogenschießen – dieser Kurs biete
 t einen idealen Einstieg in das Traditionelle Bogenschießen.\n\nInhalt:\n
 \n 	Kursblock mit 5 Terminen\n 	Uhrzeit: 14-15 Uhr\n 	Komplette Ausrüstun
 g wird gestellt\n 	Kleine Gruppe mit max. 5 Teilnehmern\n 	Kosten (Kursblo
 ck mit 5 Einheiten): 85\,- EUR\n 	Ort: In 74229 Oedheim auf dem Sperrfecht
 er Freizeipark\n 	Kursanmeldung für jeden möglich\, auch für Nicht-Camp
 er\n\n[wpforms id="1326"]
ATTACH;FMTTYPE=image/jpeg:https://bogenpfade.de/wp-content/uploads/2025/12
 /Griff-in-den-Bogen-scaled.jpg
LOCATION:Sperrfechter Freizeitpark\, Seecamping Hirschfeld-Park\, Im Hirsch
 feld 3\, Oedheim\, 74229\, Deutschland
X-APPLE-STRUCTURED-LOCATION;VALUE=URI;X-ADDRESS=Seecamping Hirschfeld-Park\
 , Im Hirschfeld 3\, Oedheim\, 74229\, Deutschland;X-APPLE-RADIUS=100;X-TIT
 LE=Sperrfechter Freizeitpark:geo:0,0
END:VEVENT
END:VCALENDAR